Package: topGO Version: 2.52.0 Command: rm -rf topGO.buildbin-libdir && mkdir topGO.buildbin-libdir && /Users/biocbuild/BBS/utils/build-universal.sh topGO_2.52.0.tar.gz /Library/Frameworks/R.framework/Resources/bin/R topGO.buildbin-libdir StartedAt: 2023-10-16 10:22:02 -0400 (Mon, 16 Oct 2023) EndedAt: 2023-10-16 10:23:13 -0400 (Mon, 16 Oct 2023) EllapsedTime: 71.0 seconds RetCode: 0 Status: OK PackageFile: topGO_2.52.0.tgz PackageFileSize: 2.117 MiB