Package: tomoseqr Version: 1.4.0 Command: /home/biocbuild/bbs-3.17-bioc/R/bin/R CMD check --install=check:tomoseqr.install-out.txt --library=/home/biocbuild/bbs-3.17-bioc/R/site-library --timings tomoseqr_1.4.0.tar.gz StartedAt: 2023-10-16 01:48:23 -0400 (Mon, 16 Oct 2023) EndedAt: 2023-10-16 01:49:25 -0400 (Mon, 16 Oct 2023) EllapsedTime: 62.6 seconds RetCode: 0 Status: OK CheckDir: tomoseqr.Rcheck Warnings: 0