Package: tomoseqr Version: 1.4.0 Command: /Library/Frameworks/R.framework/Resources/bin/R CMD check --install=check:tomoseqr.install-out.txt --library=/Library/Frameworks/R.framework/Resources/library --no-vignettes --timings tomoseqr_1.4.0.tar.gz StartedAt: 2023-10-16 08:07:19 -0400 (Mon, 16 Oct 2023) EndedAt: 2023-10-16 08:09:54 -0400 (Mon, 16 Oct 2023) EllapsedTime: 155.1 seconds RetCode: 0 Status: OK CheckDir: tomoseqr.Rcheck Warnings: 0