Package: tomoda Version: 1.10.0 Command: chmod a+r tomoda -R && F:\biocbuild\bbs-3.17-bioc\R\bin\R.exe CMD build --keep-empty-dirs --no-resave-data tomoda StartedAt: 2023-10-15 22:52:46 -0400 (Sun, 15 Oct 2023) EndedAt: 2023-10-15 22:54:15 -0400 (Sun, 15 Oct 2023) EllapsedTime: 88.7 seconds RetCode: 0 Status: OK PackageFile: tomoda_1.10.0.tar.gz PackageFileSize: 1.961 MiB