Package: tkWidgets Version: 1.78.0 Command: F:\biocbuild\bbs-3.17-bioc\R\bin\R.exe CMD check --no-multiarch --install=check:tkWidgets.install-out.txt --library=F:\biocbuild\bbs-3.17-bioc\R\library --no-vignettes --timings tkWidgets_1.78.0.tar.gz StartedAt: 2023-10-16 07:41:33 -0400 (Mon, 16 Oct 2023) EndedAt: 2023-10-16 07:42:19 -0400 (Mon, 16 Oct 2023) EllapsedTime: 46.0 seconds RetCode: 0 Status: OK CheckDir: tkWidgets.Rcheck Warnings: 0