Package: timescape Version: 1.24.0 Command: /home/biocbuild/bbs-3.17-bioc/R/bin/R CMD check --install=check:timescape.install-out.txt --library=/home/biocbuild/bbs-3.17-bioc/R/site-library --timings timescape_1.24.0.tar.gz StartedAt: 2023-10-16 01:46:03 -0400 (Mon, 16 Oct 2023) EndedAt: 2023-10-16 01:46:19 -0400 (Mon, 16 Oct 2023) EllapsedTime: 16.3 seconds RetCode: 0 Status: WARNINGS CheckDir: timescape.Rcheck Warnings: 1