Package: timecourse Version: 1.72.0 Command: F:\biocbuild\bbs-3.17-bioc\R\bin\R.exe CMD INSTALL timecourse StartedAt: 2023-10-15 15:53:28 -0400 (Sun, 15 Oct 2023) EndedAt: 2023-10-15 15:53:37 -0400 (Sun, 15 Oct 2023) EllapsedTime: 9.6 seconds RetCode: 0 Status: OK