Package: timecourse Version: 1.72.0 Command: chmod a+r timecourse -R && F:\biocbuild\bbs-3.17-bioc\R\bin\R.exe CMD build --keep-empty-dirs --no-resave-data timecourse StartedAt: 2023-10-15 22:51:32 -0400 (Sun, 15 Oct 2023) EndedAt: 2023-10-15 22:51:53 -0400 (Sun, 15 Oct 2023) EllapsedTime: 21.3 seconds RetCode: 0 Status: OK PackageFile: timecourse_1.72.0.tar.gz PackageFileSize: 713.4 KiB