Package: timecourse Version: 1.72.0 Command: /home/biocbuild/bbs-3.17-bioc/R/bin/R CMD check --install=check:timecourse.install-out.txt --library=/home/biocbuild/bbs-3.17-bioc/R/site-library --timings timecourse_1.72.0.tar.gz StartedAt: 2023-10-16 01:45:25 -0400 (Mon, 16 Oct 2023) EndedAt: 2023-10-16 01:46:16 -0400 (Mon, 16 Oct 2023) EllapsedTime: 50.7 seconds RetCode: 0 Status: OK CheckDir: timecourse.Rcheck Warnings: 0