Package: timecourse Version: 1.72.0 Command: /home/biocbuild/bbs-3.17-bioc/R/bin/R CMD build --keep-empty-dirs --no-resave-data timecourse StartedAt: 2023-10-15 18:48:50 -0400 (Sun, 15 Oct 2023) EndedAt: 2023-10-15 18:49:04 -0400 (Sun, 15 Oct 2023) EllapsedTime: 14.5 seconds RetCode: 0 Status: OK PackageFile: timecourse_1.72.0.tar.gz PackageFileSize: 711.3 KiB