Package: timecourse Version: 1.72.0 Command: /Library/Frameworks/R.framework/Resources/bin/R CMD check --install=check:timecourse.install-out.txt --library=/Library/Frameworks/R.framework/Resources/library --no-vignettes --timings timecourse_1.72.0.tar.gz StartedAt: 2023-10-16 08:02:23 -0400 (Mon, 16 Oct 2023) EndedAt: 2023-10-16 08:04:20 -0400 (Mon, 16 Oct 2023) EllapsedTime: 117.5 seconds RetCode: 0 Status: OK CheckDir: timecourse.Rcheck Warnings: 0