Package: timecourse Version: 1.72.0 Command: /Library/Frameworks/R.framework/Resources/bin/R CMD build --keep-empty-dirs --no-resave-data timecourse StartedAt: 2023-10-15 21:53:48 -0400 (Sun, 15 Oct 2023) EndedAt: 2023-10-15 21:54:35 -0400 (Sun, 15 Oct 2023) EllapsedTime: 46.8 seconds RetCode: 0 Status: OK PackageFile: timecourse_1.72.0.tar.gz PackageFileSize: 840.4 KiB