Package: timeOmics Version: 1.12.0 Command: /Library/Frameworks/R.framework/Resources/bin/R CMD INSTALL timeOmics StartedAt: 2023-10-15 15:22:31 -0400 (Sun, 15 Oct 2023) EndedAt: 2023-10-15 15:23:20 -0400 (Sun, 15 Oct 2023) EllapsedTime: 48.8 seconds RetCode: 0 Status: OK