Package: timeOmics Version: 1.12.0 Command: /Library/Frameworks/R.framework/Resources/bin/R CMD build --keep-empty-dirs --no-resave-data timeOmics StartedAt: 2023-10-15 21:53:50 -0400 (Sun, 15 Oct 2023) EndedAt: 2023-10-15 21:55:19 -0400 (Sun, 15 Oct 2023) EllapsedTime: 88.7 seconds RetCode: 0 Status: OK PackageFile: timeOmics_1.12.0.tar.gz PackageFileSize: 3.827 MiB