Package: tilingArray Version: 1.78.0 Command: /Library/Frameworks/R.framework/Resources/bin/R CMD INSTALL tilingArray StartedAt: 2023-10-15 16:00:33 -0400 (Sun, 15 Oct 2023) EndedAt: 2023-10-15 16:01:53 -0400 (Sun, 15 Oct 2023) EllapsedTime: 79.4 seconds RetCode: 0 Status: OK