Package: tilingArray Version: 1.78.0 Command: rm -rf tilingArray.buildbin-libdir && mkdir tilingArray.buildbin-libdir && /Users/biocbuild/BBS/utils/build-universal.sh tilingArray_1.78.0.tar.gz /Library/Frameworks/R.framework/Resources/bin/R tilingArray.buildbin-libdir StartedAt: 2023-10-16 10:21:15 -0400 (Mon, 16 Oct 2023) EndedAt: 2023-10-16 10:22:37 -0400 (Mon, 16 Oct 2023) EllapsedTime: 82.5 seconds RetCode: 0 Status: OK PackageFile: tilingArray_1.78.0.tgz PackageFileSize: 3.884 MiB