Package: tidySingleCellExperiment Version: 1.10.0 Command: /home/biocbuild/bbs-3.17-bioc/R/bin/R CMD check --install=check:tidySingleCellExperiment.install-out.txt --library=/home/biocbuild/bbs-3.17-bioc/R/site-library --timings tidySingleCellExperiment_1.10.0.tar.gz StartedAt: 2023-10-16 01:44:17 -0400 (Mon, 16 Oct 2023) EndedAt: 2023-10-16 01:48:10 -0400 (Mon, 16 Oct 2023) EllapsedTime: 233.9 seconds RetCode: 0 Status: WARNINGS CheckDir: tidySingleCellExperiment.Rcheck Warnings: 1