git_url: https://git.bioconductor.org/packages/tidySingleCellExperiment git_branch: RELEASE_3_17 git_last_commit: d180646 git_last_commit_date: 2023-04-25 11:24:36 -0400 (Tue, 25 Apr 2023) Package: tidySingleCellExperiment Version: 1.10.0 Maintainer: Stefano Mangiola MaintainerEmail: mangiolastefano at gmail.com