Package: target Version: 1.14.0 Command: F:\biocbuild\bbs-3.17-bioc\R\bin\R.exe CMD check --no-multiarch --install=check:target.install-out.txt --library=F:\biocbuild\bbs-3.17-bioc\R\library --no-vignettes --timings target_1.14.0.tar.gz StartedAt: 2023-10-16 07:32:33 -0400 (Mon, 16 Oct 2023) EndedAt: 2023-10-16 07:33:57 -0400 (Mon, 16 Oct 2023) EllapsedTime: 84.3 seconds RetCode: 0 Status: OK CheckDir: target.Rcheck Warnings: 0