Package: target Version: 1.14.0 Command: rm -rf target.buildbin-libdir && mkdir target.buildbin-libdir && F:\biocbuild\bbs-3.17-bioc\R\bin\R.exe CMD INSTALL --build --library=target.buildbin-libdir target_1.14.0.tar.gz StartedAt: 2023-10-16 09:38:19 -0400 (Mon, 16 Oct 2023) EndedAt: 2023-10-16 09:38:47 -0400 (Mon, 16 Oct 2023) EllapsedTime: 28.1 seconds RetCode: 0 Status: OK PackageFile: target_1.14.0.zip PackageFileSize: 3.157 MiB