Package: target Version: 1.14.0 Command: rm -rf target.buildbin-libdir && mkdir target.buildbin-libdir && /Users/biocbuild/BBS/utils/build-universal.sh target_1.14.0.tar.gz /Library/Frameworks/R.framework/Resources/bin/R target.buildbin-libdir StartedAt: 2023-10-16 10:20:11 -0400 (Mon, 16 Oct 2023) EndedAt: 2023-10-16 10:20:50 -0400 (Mon, 16 Oct 2023) EllapsedTime: 38.6 seconds RetCode: 0 Status: OK PackageFile: target_1.14.0.tgz PackageFileSize: 3.339 MiB