Package: tanggle Version: 1.6.0 Command: /home/biocbuild/bbs-3.17-bioc/R/bin/R CMD check --install=check:tanggle.install-out.txt --library=/home/biocbuild/bbs-3.17-bioc/R/site-library --timings tanggle_1.6.0.tar.gz StartedAt: 2023-10-16 01:40:00 -0400 (Mon, 16 Oct 2023) EndedAt: 2023-10-16 01:40:55 -0400 (Mon, 16 Oct 2023) EllapsedTime: 55.3 seconds RetCode: 0 Status: OK CheckDir: tanggle.Rcheck Warnings: 0