Package: tanggle Version: 1.6.0 Command: /Library/Frameworks/R.framework/Resources/bin/R CMD INSTALL tanggle StartedAt: 2023-10-15 15:23:21 -0400 (Sun, 15 Oct 2023) EndedAt: 2023-10-15 15:23:37 -0400 (Sun, 15 Oct 2023) EllapsedTime: 16.5 seconds RetCode: 0 Status: OK