Package: tRanslatome Version: 1.38.0 Command: F:\biocbuild\bbs-3.17-bioc\R\bin\R.exe CMD check --no-multiarch --install=check:tRanslatome.install-out.txt --library=F:\biocbuild\bbs-3.17-bioc\R\library --no-vignettes --timings tRanslatome_1.38.0.tar.gz StartedAt: 2023-10-16 07:46:09 -0400 (Mon, 16 Oct 2023) EndedAt: 2023-10-16 07:50:51 -0400 (Mon, 16 Oct 2023) EllapsedTime: 281.3 seconds RetCode: 0 Status: OK CheckDir: tRanslatome.Rcheck Warnings: 0