Package: tRanslatome Version: 1.38.0 Command: /home/biocbuild/bbs-3.17-bioc/R/bin/R CMD build --keep-empty-dirs --no-resave-data tRanslatome StartedAt: 2023-10-15 18:50:39 -0400 (Sun, 15 Oct 2023) EndedAt: 2023-10-15 18:51:55 -0400 (Sun, 15 Oct 2023) EllapsedTime: 75.6 seconds RetCode: 0 Status: OK PackageFile: tRanslatome_1.38.0.tar.gz PackageFileSize: 811.4 KiB