Package: tRanslatome Version: 1.38.0 Command: /Library/Frameworks/R.framework/Resources/bin/R CMD check --install=check:tRanslatome.install-out.txt --library=/Library/Frameworks/R.framework/Resources/library --no-vignettes --timings tRanslatome_1.38.0.tar.gz StartedAt: 2023-10-16 08:11:49 -0400 (Mon, 16 Oct 2023) EndedAt: 2023-10-16 08:24:02 -0400 (Mon, 16 Oct 2023) EllapsedTime: 733.2 seconds RetCode: 0 Status: OK CheckDir: tRanslatome.Rcheck Warnings: 0