Package: tRNAdbImport Version: 1.18.0 Command: F:\biocbuild\bbs-3.17-bioc\R\bin\R.exe CMD check --no-multiarch --install=check:tRNAdbImport.install-out.txt --library=F:\biocbuild\bbs-3.17-bioc\R\library --no-vignettes --timings tRNAdbImport_1.18.0.tar.gz StartedAt: 2023-10-16 07:51:51 -0400 (Mon, 16 Oct 2023) EndedAt: 2023-10-16 07:53:59 -0400 (Mon, 16 Oct 2023) EllapsedTime: 127.8 seconds RetCode: 0 Status: OK CheckDir: tRNAdbImport.Rcheck Warnings: 0