Package: tRNAdbImport Version: 1.18.0 Command: /home/biocbuild/bbs-3.17-bioc/R/bin/R CMD build --keep-empty-dirs --no-resave-data tRNAdbImport StartedAt: 2023-10-15 18:51:43 -0400 (Sun, 15 Oct 2023) EndedAt: 2023-10-15 18:52:37 -0400 (Sun, 15 Oct 2023) EllapsedTime: 54.7 seconds RetCode: 0 Status: OK PackageFile: tRNAdbImport_1.18.0.tar.gz PackageFileSize: 322.1 KiB