Package: tRNAdbImport Version: 1.18.0 Command: /Library/Frameworks/R.framework/Resources/bin/R CMD check --install=check:tRNAdbImport.install-out.txt --library=/Library/Frameworks/R.framework/Resources/library --no-vignettes --timings tRNAdbImport_1.18.0.tar.gz StartedAt: 2023-10-14 08:13:24 -0400 (Sat, 14 Oct 2023) EndedAt: 2023-10-14 08:19:16 -0400 (Sat, 14 Oct 2023) EllapsedTime: 351.4 seconds RetCode: 0 Status: OK CheckDir: tRNAdbImport.Rcheck Warnings: 0