Package: tRNAdbImport Version: 1.18.0 Command: /Library/Frameworks/R.framework/Resources/bin/R CMD build --keep-empty-dirs --no-resave-data tRNAdbImport StartedAt: 2023-10-15 21:59:59 -0400 (Sun, 15 Oct 2023) EndedAt: 2023-10-15 22:01:18 -0400 (Sun, 15 Oct 2023) EllapsedTime: 78.7 seconds RetCode: 1 Status: ERROR PackageFile: None PackageFileSize: NA