Package: tRNA Version: 1.18.0 Command: F:\biocbuild\bbs-3.17-bioc\R\bin\R.exe CMD check --no-multiarch --install=check:tRNA.install-out.txt --library=F:\biocbuild\bbs-3.17-bioc\R\library --no-vignettes --timings tRNA_1.18.0.tar.gz StartedAt: 2023-10-16 07:50:52 -0400 (Mon, 16 Oct 2023) EndedAt: 2023-10-16 07:54:23 -0400 (Mon, 16 Oct 2023) EllapsedTime: 210.1 seconds RetCode: 0 Status: OK CheckDir: tRNA.Rcheck Warnings: 0