Package: tRNA Version: 1.18.0 Command: /home/biocbuild/bbs-3.17-bioc/R/bin/R CMD INSTALL tRNA StartedAt: 2023-10-15 15:14:40 -0400 (Sun, 15 Oct 2023) EndedAt: 2023-10-15 15:14:55 -0400 (Sun, 15 Oct 2023) EllapsedTime: 15.2 seconds RetCode: 0 Status: OK