Package: tRNA Version: 1.18.0 Command: /Library/Frameworks/R.framework/Resources/bin/R CMD INSTALL tRNA StartedAt: 2023-10-15 15:19:29 -0400 (Sun, 15 Oct 2023) EndedAt: 2023-10-15 15:20:27 -0400 (Sun, 15 Oct 2023) EllapsedTime: 58.0 seconds RetCode: 0 Status: OK