Package: tRNA Version: 1.18.0 Command: /Library/Frameworks/R.framework/Resources/bin/R CMD check --install=check:tRNA.install-out.txt --library=/Library/Frameworks/R.framework/Resources/library --no-vignettes --timings tRNA_1.18.0.tar.gz StartedAt: 2023-10-16 08:16:59 -0400 (Mon, 16 Oct 2023) EndedAt: 2023-10-16 08:28:21 -0400 (Mon, 16 Oct 2023) EllapsedTime: 682.1 seconds RetCode: 0 Status: OK CheckDir: tRNA.Rcheck Warnings: 0