Package: tRNA Version: 1.18.0 Command: /Library/Frameworks/R.framework/Resources/bin/R CMD build --keep-empty-dirs --no-resave-data tRNA StartedAt: 2023-10-15 21:59:54 -0400 (Sun, 15 Oct 2023) EndedAt: 2023-10-15 22:07:38 -0400 (Sun, 15 Oct 2023) EllapsedTime: 463.8 seconds RetCode: 0 Status: OK PackageFile: tRNA_1.18.0.tar.gz PackageFileSize: 1.22 MiB