Package: systemPipeTools Version: 1.8.0 Command: chmod a+r systemPipeTools -R && F:\biocbuild\bbs-3.17-bioc\R\bin\R.exe CMD build --keep-empty-dirs --no-resave-data systemPipeTools StartedAt: 2023-10-15 22:46:46 -0400 (Sun, 15 Oct 2023) EndedAt: 2023-10-15 22:48:04 -0400 (Sun, 15 Oct 2023) EllapsedTime: 78.3 seconds RetCode: 0 Status: OK PackageFile: systemPipeTools_1.8.0.tar.gz PackageFileSize: 545.4 KiB