Package: systemPipeTools Version: 1.8.0 Command: /home/biocbuild/bbs-3.17-bioc/R/bin/R CMD INSTALL systemPipeTools StartedAt: 2023-10-15 15:43:51 -0400 (Sun, 15 Oct 2023) EndedAt: 2023-10-15 15:44:14 -0400 (Sun, 15 Oct 2023) EllapsedTime: 23.2 seconds RetCode: 0 Status: OK