Package: systemPipeTools Version: 1.8.0 Command: /home/biocbuild/bbs-3.17-bioc/R/bin/R CMD build --keep-empty-dirs --no-resave-data systemPipeTools StartedAt: 2023-10-15 18:45:58 -0400 (Sun, 15 Oct 2023) EndedAt: 2023-10-15 18:46:54 -0400 (Sun, 15 Oct 2023) EllapsedTime: 55.4 seconds RetCode: 0 Status: OK PackageFile: systemPipeTools_1.8.0.tar.gz PackageFileSize: 885 KiB