Package: systemPipeR Version: 2.6.3 Command: chmod a+r systemPipeR -R && F:\biocbuild\bbs-3.17-bioc\R\bin\R.exe CMD build --keep-empty-dirs --no-resave-data systemPipeR StartedAt: 2023-10-15 22:46:29 -0400 (Sun, 15 Oct 2023) EndedAt: 2023-10-15 22:48:34 -0400 (Sun, 15 Oct 2023) EllapsedTime: 125.7 seconds RetCode: 0 Status: OK PackageFile: systemPipeR_2.6.3.tar.gz PackageFileSize: 7.012 MiB