Package: systemPipeR Version: 2.6.3 Command: rm -rf systemPipeR.buildbin-libdir && mkdir systemPipeR.buildbin-libdir && F:\biocbuild\bbs-3.17-bioc\R\bin\R.exe CMD INSTALL --build --library=systemPipeR.buildbin-libdir systemPipeR_2.6.3.tar.gz StartedAt: 2023-10-16 09:38:08 -0400 (Mon, 16 Oct 2023) EndedAt: 2023-10-16 09:39:27 -0400 (Mon, 16 Oct 2023) EllapsedTime: 78.3 seconds RetCode: 0 Status: OK PackageFile: systemPipeR_2.6.3.zip PackageFileSize: 6.328 MiB