Package: systemPipeR Version: 2.6.3 Command: /home/biocbuild/bbs-3.17-bioc/R/bin/R CMD INSTALL systemPipeR StartedAt: 2023-10-15 15:26:34 -0400 (Sun, 15 Oct 2023) EndedAt: 2023-10-15 15:27:17 -0400 (Sun, 15 Oct 2023) EllapsedTime: 43.6 seconds RetCode: 0 Status: OK