Package: systemPipeR Version: 2.6.3 Command: /home/biocbuild/bbs-3.17-bioc/R/bin/R CMD check --install=check:systemPipeR.install-out.txt --library=/home/biocbuild/bbs-3.17-bioc/R/site-library --timings systemPipeR_2.6.3.tar.gz StartedAt: 2023-10-16 01:38:54 -0400 (Mon, 16 Oct 2023) EndedAt: 2023-10-16 01:45:06 -0400 (Mon, 16 Oct 2023) EllapsedTime: 371.8 seconds RetCode: 0 Status: OK CheckDir: systemPipeR.Rcheck Warnings: 0