Package: systemPipeR Version: 2.6.3 Command: /Library/Frameworks/R.framework/Resources/bin/R CMD check --install=check:systemPipeR.install-out.txt --library=/Library/Frameworks/R.framework/Resources/library --no-vignettes --timings systemPipeR_2.6.3.tar.gz StartedAt: 2023-10-16 07:53:44 -0400 (Mon, 16 Oct 2023) EndedAt: 2023-10-16 08:07:51 -0400 (Mon, 16 Oct 2023) EllapsedTime: 847.0 seconds RetCode: 0 Status: OK CheckDir: systemPipeR.Rcheck Warnings: 0