Package: systemPipeR Version: 2.6.3 Command: /Library/Frameworks/R.framework/Resources/bin/R CMD build --keep-empty-dirs --no-resave-data systemPipeR StartedAt: 2023-10-15 21:48:52 -0400 (Sun, 15 Oct 2023) EndedAt: 2023-10-15 21:52:19 -0400 (Sun, 15 Oct 2023) EllapsedTime: 207.1 seconds RetCode: 0 Status: OK PackageFile: systemPipeR_2.6.3.tar.gz PackageFileSize: 7.077 MiB