Package: systemPipeR Version: 2.6.3 Command: rm -rf systemPipeR.buildbin-libdir && mkdir systemPipeR.buildbin-libdir && /Users/biocbuild/BBS/utils/build-universal.sh systemPipeR_2.6.3.tar.gz /Library/Frameworks/R.framework/Resources/bin/R systemPipeR.buildbin-libdir StartedAt: 2023-10-16 10:20:03 -0400 (Mon, 16 Oct 2023) EndedAt: 2023-10-16 10:22:39 -0400 (Mon, 16 Oct 2023) EllapsedTime: 156.5 seconds RetCode: 0 Status: OK PackageFile: systemPipeR_2.6.3.tgz PackageFileSize: 6.281 MiB