Package: syntenet Version: 1.2.4 Command: chmod a+r syntenet -R && F:\biocbuild\bbs-3.17-bioc\R\bin\R.exe CMD build --keep-empty-dirs --no-resave-data syntenet StartedAt: 2023-10-15 22:46:28 -0400 (Sun, 15 Oct 2023) EndedAt: 2023-10-15 22:48:37 -0400 (Sun, 15 Oct 2023) EllapsedTime: 129.6 seconds RetCode: 0 Status: OK PackageFile: syntenet_1.2.4.tar.gz PackageFileSize: 2.112 MiB