Package: syntenet Version: 1.2.4 Command: rm -rf syntenet.buildbin-libdir && mkdir syntenet.buildbin-libdir && F:\biocbuild\bbs-3.17-bioc\R\bin\R.exe CMD INSTALL --build --library=syntenet.buildbin-libdir syntenet_1.2.4.tar.gz StartedAt: 2023-10-16 09:38:07 -0400 (Mon, 16 Oct 2023) EndedAt: 2023-10-16 09:39:15 -0400 (Mon, 16 Oct 2023) EllapsedTime: 68.6 seconds RetCode: 0 Status: OK PackageFile: syntenet_1.2.4.zip PackageFileSize: 2.692 MiB