Package: syntenet Version: 1.2.4 Command: /home/biocbuild/bbs-3.17-bioc/R/bin/R CMD check --install=check:syntenet.install-out.txt --library=/home/biocbuild/bbs-3.17-bioc/R/site-library --timings syntenet_1.2.4.tar.gz StartedAt: 2023-10-16 01:38:51 -0400 (Mon, 16 Oct 2023) EndedAt: 2023-10-16 01:43:48 -0400 (Mon, 16 Oct 2023) EllapsedTime: 296.5 seconds RetCode: 0 Status: OK CheckDir: syntenet.Rcheck Warnings: 0