Package: syntenet Version: 1.2.4 Command: /home/biocbuild/bbs-3.17-bioc/R/bin/R CMD build --keep-empty-dirs --no-resave-data syntenet StartedAt: 2023-10-15 18:45:48 -0400 (Sun, 15 Oct 2023) EndedAt: 2023-10-15 18:47:26 -0400 (Sun, 15 Oct 2023) EllapsedTime: 97.2 seconds RetCode: 0 Status: OK PackageFile: syntenet_1.2.4.tar.gz PackageFileSize: 2.305 MiB