Package: syntenet Version: 1.2.4 Command: rm -rf syntenet.buildbin-libdir && mkdir syntenet.buildbin-libdir && /Users/biocbuild/BBS/utils/build-universal.sh syntenet_1.2.4.tar.gz /Library/Frameworks/R.framework/Resources/bin/R syntenet.buildbin-libdir StartedAt: 2023-10-16 10:20:01 -0400 (Mon, 16 Oct 2023) EndedAt: 2023-10-16 10:23:10 -0400 (Mon, 16 Oct 2023) EllapsedTime: 188.7 seconds RetCode: 0 Status: OK PackageFile: syntenet_1.2.4.tgz PackageFileSize: 2.682 MiB